BEGIN:VCALENDAR
VERSION:2.0
PRODID:-//Cornwall Hospice - ECPv6.15.20//NONSGML v1.0//EN
CALSCALE:GREGORIAN
METHOD:PUBLISH
X-ORIGINAL-URL:https://cornwallhospice.org
X-WR-CALDESC:Events for Cornwall Hospice
REFRESH-INTERVAL;VALUE=DURATION:PT1H
X-Robots-Tag:noindex
X-PUBLISHED-TTL:PT1H
BEGIN:VTIMEZONE
TZID:Europe/London
BEGIN:DAYLIGHT
TZOFFSETFROM:+0000
TZOFFSETTO:+0100
TZNAME:BST
DTSTART:20250330T010000
END:DAYLIGHT
BEGIN:STANDARD
TZOFFSETFROM:+0100
TZOFFSETTO:+0000
TZNAME:GMT
DTSTART:20251026T010000
END:STANDARD
BEGIN:DAYLIGHT
TZOFFSETFROM:+0000
TZOFFSETTO:+0100
TZNAME:BST
DTSTART:20260329T010000
END:DAYLIGHT
BEGIN:STANDARD
TZOFFSETFROM:+0100
TZOFFSETTO:+0000
TZNAME:GMT
DTSTART:20261025T010000
END:STANDARD
BEGIN:DAYLIGHT
TZOFFSETFROM:+0000
TZOFFSETTO:+0100
TZNAME:BST
DTSTART:20270328T010000
END:DAYLIGHT
BEGIN:STANDARD
TZOFFSETFROM:+0100
TZOFFSETTO:+0000
TZNAME:GMT
DTSTART:20271031T010000
END:STANDARD
END:VTIMEZONE
BEGIN:VEVENT
DTSTART;TZID=Europe/London:20260502T153000
DTEND;TZID=Europe/London:20260502T193000
DTSTAMP:20260422T061116
CREATED:20260421T154304Z
LAST-MODIFIED:20260421T154400Z
UID:10001103-1777735800-1777750200@cornwallhospice.org
SUMMARY:The Devil Wears Preloved
DESCRIPTION:Step into style at Devil Wears Pre-Loved — a one-day fashion pop-up at White River Cinema\, perfectly timed with the release of The Devil Wears Prada 2.\nArrive a little early or browse between showings to discover a handpicked selection of pre-loved clothing\, shoes\, and accessories — giving great style a second life. \nTo add a little extra sparkle\, the first 50 customers will receive a complimentary glass of fizz\, kindly provided by St Austell Brewery. \nCome early\, stay between showings\, or just drop by to shop — everyone is welcome. \nIf you would like to book cinema tickets for The Devil Wears Prada 2 screenings\, head to the White River Cinema website. \nYou can see what other fundraising events we have coming up by visiting our website events calendar.
URL:https://cornwallhospice.org/event/the-devil-wears-preloved/
LOCATION:White River Cinema\, White River Place\, St Austell\, PL25 5AZ\, United Kingdom
CATEGORIES:Fundraising Events,Our Supporters’ Events
ATTACH;FMTTYPE=image/png:https://cornwallhospice.org/wp-content/uploads/2026/04/The-devil-wears-preloved-website-1.png
END:VEVENT
END:VCALENDAR