BEGIN:VCALENDAR
VERSION:2.0
PRODID:-//Cornwall Hospice - ECPv6.15.20//NONSGML v1.0//EN
CALSCALE:GREGORIAN
METHOD:PUBLISH
X-ORIGINAL-URL:https://cornwallhospice.org
X-WR-CALDESC:Events for Cornwall Hospice
REFRESH-INTERVAL;VALUE=DURATION:PT1H
X-Robots-Tag:noindex
X-PUBLISHED-TTL:PT1H
BEGIN:VTIMEZONE
TZID:Europe/London
BEGIN:DAYLIGHT
TZOFFSETFROM:+0000
TZOFFSETTO:+0100
TZNAME:BST
DTSTART:20250330T010000
END:DAYLIGHT
BEGIN:STANDARD
TZOFFSETFROM:+0100
TZOFFSETTO:+0000
TZNAME:GMT
DTSTART:20251026T010000
END:STANDARD
BEGIN:DAYLIGHT
TZOFFSETFROM:+0000
TZOFFSETTO:+0100
TZNAME:BST
DTSTART:20260329T010000
END:DAYLIGHT
BEGIN:STANDARD
TZOFFSETFROM:+0100
TZOFFSETTO:+0000
TZNAME:GMT
DTSTART:20261025T010000
END:STANDARD
BEGIN:DAYLIGHT
TZOFFSETFROM:+0000
TZOFFSETTO:+0100
TZNAME:BST
DTSTART:20270328T010000
END:DAYLIGHT
BEGIN:STANDARD
TZOFFSETFROM:+0100
TZOFFSETTO:+0000
TZNAME:GMT
DTSTART:20271031T010000
END:STANDARD
END:VTIMEZONE
BEGIN:VEVENT
DTSTART;TZID=Europe/London:20260618T110000
DTEND;TZID=Europe/London:20260618T130000
DTSTAMP:20260424T152601
CREATED:20260420T082740Z
LAST-MODIFIED:20260420T082908Z
UID:10001089-1781780400-1781787600@cornwallhospice.org
SUMMARY:Walk Talk Kernow Hayle King George V Memorial Walk
DESCRIPTION:Our Walk Talk Kernow Hayle King George V Memorial Walk event will take place on Thursday 18th June 2026. We meet outside Gilberts Beach Bar & Kitchen at 10.00am to register. \nWalk Talk Kernow is a FREE adult bereavement support group run by Cornwall Hospice. Whilst walking in nature\, each group provides a space for those who are bereaved and seeking social connections with others. \nKey information about Walk Talk Kernow Hayle – King George V Memorial Walk \n\nWe will take a stroll along the Memorial Walk at the half way point we will loop back returning to the cafe for refreshments and finish by 12.00pm. \n\n\nThe Walk Talk Kernow Hayle walk is a flat well surfaced pathway (an amble NOT a ramble) with a choice of tarmacked or woodland loop back\, with an approximate distance 2 miles. It is mostly flat but some grassy banks on the loop so NOT suitable for wheelchair users or those with mobility issues. \n\n\nSuitable footwear and appropriate clothing are essential. \nWell behaved dogs on a lead are welcome.\nPlease ensure you are fit and healthy on the day as you will be asked to sign on our registration form to this effect. \n** During the summer months it is important to stay hydrated\, please bring along adequate drinks for this reason **\nOur team will be wearing Cornwall Hospice lanyards so do look out for them. \n\n\nPlease note: There is a car park beside Hayle Swimming Pool available (free at the time of hosting this event). Further street parking available around the area. \n\n  \nWe also have a Walk Talk Kernow Facebook group – click HERE to visit and join our community. \nFor more information about Walk Talk Kernow\, please email communityservices@cornwallhospice.org or call 01726 829874. \n** During adverse weather\, please check that our walks are going ahead by calling the above number ** \n  \nYou can find out more about Walk Talk Kernow Hayle and the other services we offer at venues near you by clicking here.
URL:https://cornwallhospice.org/event/walk-talk-kernow-hayle-king-george-v-memorial-walk/
LOCATION:Gilberts Beach Bar & Kitchen\, North Quay\, Hayle\, Cornwall\, TR27 4DD\, United Kingdom
CATEGORIES:Community Services Events,Walk Talk Kernow
ATTACH;FMTTYPE=image/jpeg:https://cornwallhospice.org/wp-content/uploads/2026/04/King-George-V-River-WTK.jpg
END:VEVENT
END:VCALENDAR