BEGIN:VCALENDAR
VERSION:2.0
PRODID:-//Cornwall Hospice - ECPv6.15.20//NONSGML v1.0//EN
CALSCALE:GREGORIAN
METHOD:PUBLISH
X-WR-CALNAME:Cornwall Hospice
X-ORIGINAL-URL:https://cornwallhospice.org
X-WR-CALDESC:Events for Cornwall Hospice
REFRESH-INTERVAL;VALUE=DURATION:PT1H
X-Robots-Tag:noindex
X-PUBLISHED-TTL:PT1H
BEGIN:VTIMEZONE
TZID:Europe/London
BEGIN:DAYLIGHT
TZOFFSETFROM:+0000
TZOFFSETTO:+0100
TZNAME:BST
DTSTART:20240331T010000
END:DAYLIGHT
BEGIN:STANDARD
TZOFFSETFROM:+0100
TZOFFSETTO:+0000
TZNAME:GMT
DTSTART:20241027T010000
END:STANDARD
BEGIN:DAYLIGHT
TZOFFSETFROM:+0000
TZOFFSETTO:+0100
TZNAME:BST
DTSTART:20250330T010000
END:DAYLIGHT
BEGIN:STANDARD
TZOFFSETFROM:+0100
TZOFFSETTO:+0000
TZNAME:GMT
DTSTART:20251026T010000
END:STANDARD
BEGIN:DAYLIGHT
TZOFFSETFROM:+0000
TZOFFSETTO:+0100
TZNAME:BST
DTSTART:20260329T010000
END:DAYLIGHT
BEGIN:STANDARD
TZOFFSETFROM:+0100
TZOFFSETTO:+0000
TZNAME:GMT
DTSTART:20261025T010000
END:STANDARD
END:VTIMEZONE
BEGIN:VEVENT
DTSTART;TZID=Europe/London:20250704T110000
DTEND;TZID=Europe/London:20250704T130000
DTSTAMP:20260422T092622
CREATED:20250519T090235Z
LAST-MODIFIED:20250519T090235Z
UID:10000818-1751626800-1751634000@cornwallhospice.org
SUMMARY:Walk Talk Kernow Par
DESCRIPTION:Join us for Walk Talk Kernow Par – a stroll from Par Running Track to Par Beach on Friday 4th July 2025\, meeting at Par Track Cafe at 10.00am to register. \nWalk Talk Kernow is a FREE adult bereavement support group run by Cornwall Hospice. Whilst walking in nature\, each group provides a space for those who are bereaved and seeking social connections with others. \nWe will meet outside the cafe by the tables at Par Running Track. We will stroll (an amble NOT a ramble) through Par to the footpaths through Par Sands Holiday Park along the beach and duck pond returning to the Cafe for refreshments.  \nKey Information for Walk Talk Kernow Par \n\nThe walk will be approximately a mile\, mainly flat\, starting on pavements and then a well surfaced pathway and sandy beach. \n\n\nPlease wear suitable clothes and footwear\, depending on the weather. \n\n\nWell behaved dogs on a lead are welcome. \n\n\nOur team will be wearing Cornwall Hospice lanyards so do look out for them. \n\n\nFree parking available. \n\nWe also have a Walk Talk Kernow Facebook group – click HERE to visit and join our community.  You can find out about all the other services we offer at venues near you by clicking here. \nFor more information about Walk Talk Kernow Par and other events please email communityservices@cornwallhospice.org or call 01726 829874. \n** During adverse weather conditions\, you can check if walks are going ahead by calling the number above.**
URL:https://cornwallhospice.org/event/walk-talk-kernow-par/
LOCATION:Par Track\, Par Running Track\, Eastcliffe Road\, Par\, Cornwall\, PL24 2AJ\, United Kingdom
CATEGORIES:Community Services Events,Walk Talk Kernow
ATTACH;FMTTYPE=image/jpeg:https://cornwallhospice.org/wp-content/uploads/2025/01/Par-Beach-Headland-2-WTK.jpeg
END:VEVENT
BEGIN:VEVENT
DTSTART;TZID=Europe/London:20250711T110000
DTEND;TZID=Europe/London:20250711T130000
DTSTAMP:20260422T092622
CREATED:20250519T090526Z
LAST-MODIFIED:20250521T164336Z
UID:10000834-1752231600-1752238800@cornwallhospice.org
SUMMARY:Walk Talk Kernow Cape Cornwall Penzance
DESCRIPTION:Join us for our Walk Talk Kernow Cape Cornwall event on Friday 11th July 2025. Meet near the main entrance of the Cape Cornwall Club (Golf Club) at 10am to register.\nThen we’ll set off for a gentle stroll (an amble not a ramble) towards Carn Gloose with views of Cape Cornwall and Sennen on a clear day!   We then take a circular route back through Bollowal Farm back to the Club for refreshments. \nWalk Talk Kernow is a FREE adult bereavement support group run by Cornwall Hospice. Whilst walking in nature\, each group provides a space for those who are bereaved and seeking social connections with others.\nWe also have a Walk Talk Kernow Facebook group – click HERE to visit and join our community. \nAbout the Walk Talk Kernow Cape Cornwall walk\n\nThe routes are well surfaced in most directions with small slopes and several low stiles in places so should be suitable for most.\nWell behaved dogs on a lead are welcome.\nPlease wear suitable clothing and footwear.\nOur team will be wearing Cornwall Hospice lanyards so do look out for them.\nPlease note: Parking is free though may be busy at high season.\n\nFor more information about Walk Talk Kernow Cape Cornwall or other walks please email communityservices@cornwallhospice.org or call 01726 829874. \n** In adverse weather\, please check that our walks are going ahead by calling the number above ** \n  \nYou can find out about all the other services we offer at venues near you by clicking here.
URL:https://cornwallhospice.org/event/walk-talk-kernow-cape-cornwall-2/
LOCATION:Cape Cornwall Golf Club\, St Just\, Penzance\, Cornwall\, TR19 7NL\, United Kingdom
CATEGORIES:Community Services Events,Walk Talk Kernow
ATTACH;FMTTYPE=image/jpeg:https://cornwallhospice.org/wp-content/uploads/2025/05/Cape-Cornwall-Donkey-WTK.jpg
END:VEVENT
BEGIN:VEVENT
DTSTART;TZID=Europe/London:20250712T140000
DTEND;TZID=Europe/London:20250712T160000
DTSTAMP:20260422T092622
CREATED:20250609T182158Z
LAST-MODIFIED:20250610T082317Z
UID:10000877-1752328800-1752336000@cornwallhospice.org
SUMMARY:Cream Tea
DESCRIPTION:St Agnes Fundraising Group invite you to join them for an afternoon Cream Tea.\nJoin the St Agnes Fundraising Group and support Cornwall Hospice.  Enjoy a delicious afternoon Cream Tea at St Agnes Methodist Church on Saturday 12th July\, from 2.00pm to 4.00pm.\nWith cream kindly donated by Rodda’s\, The cost will be £5.00 per person\, which will include tasty scones\, jam and clotted cream plus a refreshing drink. \n \nTo see other upcoming events in support of Cornwall Hospice\, please visit our website events calendar.
URL:https://cornwallhospice.org/event/cream-tea/
LOCATION:St Agnes Methodist Church Hall\, 30 British Road\, St Agnes\, Cornwall\, TR5 0UA\, United Kingdom
CATEGORIES:Fundraising Events,Our Supporters’ Events
ATTACH;FMTTYPE=image/jpeg:https://cornwallhospice.org/wp-content/uploads/2025/06/St-Agnes-Cream-Tea-600-x-300.jpg
END:VEVENT
BEGIN:VEVENT
DTSTART;TZID=Europe/London:20250712T190000
DTEND;TZID=Europe/London:20250712T230000
DTSTAMP:20260422T092622
CREATED:20250616T131732Z
LAST-MODIFIED:20250616T141203Z
UID:10000887-1752346800-1752361200@cornwallhospice.org
SUMMARY:Titanic A Murder At Sea - Murder Mystery Night
DESCRIPTION:Titanic A Murder At Sea – Murder Mystery Night\nCornwall Hospice are delighted to announce that for the second year Cornwall Murder Mystery Company will be supporting us with their annual charity night at St Austell Arts Centre Assembly Room.  ALL ABOARD FOR A GREAT CAUSE!\nJoin us on Saturday 12th July 2025 at St Austell Arts Centre Assembly Room for a Titanic Murder Mystery Night — an evening of glamour\, intrigue\, and suspense\, all in aid of Cornwall Hospice. \nEvery ticket sold helps support the vital work of Cornwall Hospice\, providing specialist care for patients and their families across Cornwall. Your night of entertainment will make a real difference in our community. \nStep into the world of the Titanic’s first-class lounge\, where beneath the glittering surface and sparkling Champagne\, dark secrets lurk and rivalries boil over. The clash between privilege and ambition creates an atmosphere thick with suspicion.  Can you solve the murder before the killer escapes? \nThe price for the Murder Mystery Night is £25 per person which includes a delicious pasty supper & welcome drink. \nDoors open at 7pm and the performance starts at 7:30pm. \nPeriod costume optional (but definitely adds to the fun!). \nBook your tickets today and help us raise funds for this incredible cause! \nhttps://uk.patronbase.com/_CornishRivieraBoxOffice/Productions/S526/Performances \n  \nTo see other upcoming events in support of Cornwall Hospice\, please visit our website events calendar.
URL:https://cornwallhospice.org/event/murder-mystery-night/
LOCATION:St Austell Arts Centre\, 87 Truro Road\, St Austell\, Cornwall\, PL25 5HJ\, United Kingdom
CATEGORIES:Fundraising Events,Our Supporters’ Events
ATTACH;FMTTYPE=image/jpeg:https://cornwallhospice.org/wp-content/uploads/2025/06/Copy-of-Event-Image-Template-600-x-300-48.jpg
END:VEVENT
BEGIN:VEVENT
DTSTART;TZID=Europe/London:20250713T090000
DTEND;TZID=Europe/London:20250713T220000
DTSTAMP:20260422T092622
CREATED:20250423T103127Z
LAST-MODIFIED:20250425T125938Z
UID:10000819-1752397200-1752444000@cornwallhospice.org
SUMMARY:Cornish Alpine Cycle Challenge
DESCRIPTION:The Rotary Club of St Austell Bay are proud to be supporting Cornwall Hospice and Merlin Neuro Therapy Centre with this year’s Cornish Alpine Cycle Challenge on Sunday 13th July 2025.\n2025 will be the fifth time that this challenging event will be taking place and the Rotary Club of St Austell Bay has teamed up with their sponsors to make the Cornish Alpine Cycle Challenge one of the most challenging non competitive off road cycling experiences in the South West.\nCornish Alpine Cycle Challenge Routes\nOn this year’s Cornish Alpine Cycle Challenge there will be three courses of 12\, 25 and 50 miles\, set to test any rider’s stamina. \nThe routes are mainly off road in the safety of cycle trails \, some of them not normally open to the public.  Enjoy the clay country – known as the Cornish Alps – at the heart of Cornwall. \nThe 12 mile route is ideal for those starting out on off road cycling.  Giving you a tough challenge\, this course can also include all of the family\, advisable for capable children.  There are hilly sections and some on road sections linking trails.  You will cycle to the Eden Project and back.  All competitors will receive a Bronze finishing medal at the end of the route. \nThe 25 mile route is a challenging 25 mile course that goes to the heart of the Cornish Alps – you will go to one of the highest peaks in clay country\, with views across the county\, from coast to coast.  You will need to be fit as this will test your stamina and strength. All competitors will receive a Silver finishing medal at the end of the route.  There will be a water station half way round where you can fill up your water bottles\, please bring your own bottles. \nThe 50 mile route will be taking in parts of both the 12 and 25 mile route with an extra  25 miles.  You will be going out to the Goss Moor Nature Reserve and have a stop at one of the sponsors Amped Cycles at Indian Queens.  This should be a challenging ride for all levels of riders and be an enjoyable day. Feed stations with drinks will be available around the route.  There is a water station at the Eden Project\, this will allow you to fill up your water bottle and why not use the facilities of the Eden Project? \nCornish Alpine Cycle Challenge Information\nThis challenge is non competitive and is not timed\, there will be route signs for each route and you’ll also be able to call on  support vehicles to help out if required. \nThe start and finish for the event this year is Priory Car Park\, Priory Road St Austell PL25 5AB. By kind permission of St Austell Town Council   As it is a Sunday\, parking is free and there are public toilet facilities available on site.  There will be a events village at the start and signing on will be at the in the event village next to the car park. \nCornish Alpine Cycle Challenge Sign Up\nWe encourage you to sign up in advance to secure your place on the Cornish Alpine Cycle Challenge.  The organisers have teamed up with British Cycling to use their entry and payment system.  You will receive entry information and tips in the lead up to the event.  Minors must complete the relevant form to get permission of parents/guardians to enter event\, email back form or present it at sign on on event day. \nAll finishers will receive a event medal 50 miles Gold\, Silver for 25 miles and Bronze for 12 miles. \n12 mile route rates – Online Adult £10\, Family £20\, Youth £5\, on the day Adult £11\, Family £21\, Youth £6\n25 mile route rates – Online Adult £25\, Family £40\, Youth £10\, on the day Adults £30\, Family £45\, Youth £15\n50 mile route rates – Online Adult £30\, Family £40\, Youth £10 on the day Adult £35\, Family £45\, Youth £15 \nWhere the money raised will go\nYour entrance fee for the Cornish Alpine Cycle Challenge will divided between Cornwall Hospice\, Merlin Neuro Therapy Centre and Rotary charities.  In addition you’re encouraged to support these charities by raising sponsorship from friends and family.  Please contact our Fundraising team for more details about setting up a Just Giving page and we’ll also be able to get a fundraising pack out to you. \n. 
URL:https://cornwallhospice.org/event/cornish-alpine-cycle-challenge/
LOCATION:Priory Carpark\, St Austell\, Priory Road\, St Austell\, Cornwall\, PL25 5AB\, United Kingdom
CATEGORIES:Fundraising Events,Our Supporters’ Events
ATTACH;FMTTYPE=image/jpeg:https://cornwallhospice.org/wp-content/uploads/2025/04/Cornish-Alpine-Cycle-Challenge-Event-Image-600-x-300.jpg
END:VEVENT
BEGIN:VEVENT
DTSTART;TZID=Europe/London:20250717T110000
DTEND;TZID=Europe/London:20250717T130000
DTSTAMP:20260422T092622
CREATED:20250519T090938Z
LAST-MODIFIED:20250521T164741Z
UID:10000835-1752750000-1752757200@cornwallhospice.org
SUMMARY:Walk Talk Kernow Godrevy Lighthouse Hayle
DESCRIPTION:Our Walk Talk Kernow Godrevy event will take place on Thursday 17th July 2025. We will meet outside the café by the benches at 10.00am to register.\nWalk Talk Kernow is a FREE adult bereavement support group run by Cornwall Hospice. Whilst walking in nature\, each group provides a space for those who are bereaved and seeking social connections with others. \nKey information about Walk Talk Kernow Godrevy\n\nWe will take a moderate walk of approximately 2 mile circular around Godrevy headland and back returning to the cafe for refreshments and finish by 12.00pm.\nThe walk is at strolling pace (an amble NOT a ramble) along either the service road or coast path depending on weather and ability … if we are lucky we may get a glimpse of some seals!\nThe café and walk are accessible to most although there some steeper parts\, uneven ground and slope up around the headland. Not suitable for wheelchairs or wheeled walkers.\nSuitable footwear and appropriate clothing are essential.\nWell behaved dogs on a lead are welcome.\nOur team will be wearing Cornwall Hospice lanyards so do look out for them.\nPlease note: There is a charge for parking. Please check National Trust Godrevy for more information.\n\nWe also have a Walk Talk Kernow Facebook group – click HERE to visit and join our community. \nFor more information about Walk Talk Kernow Godrevy\, please email communityservices@cornwallhospice.org or call 01726 829874. \n** During adverse weather\, please check that our walks are going ahead by calling the above number ** \n  \nYou can find out about all the other services we offer at venues near you by clicking here.
URL:https://cornwallhospice.org/event/walk-talk-kernow-godrevy-2/
LOCATION:Godrevy Cafe\, 2 Godrevy Towans\, Gwithian\, Hayle\, Cornwall\, TR27 5ED\, United Kingdom
CATEGORIES:Community Services Events,Walk Talk Kernow
ATTACH;FMTTYPE=image/jpeg:https://cornwallhospice.org/wp-content/uploads/2025/05/Godrevy-Lighthouse-3-WTK.jpg
END:VEVENT
BEGIN:VEVENT
DTSTART;TZID=Europe/London:20250725T110000
DTEND;TZID=Europe/London:20250725T130000
DTSTAMP:20260422T092622
CREATED:20250519T091518Z
LAST-MODIFIED:20250521T165043Z
UID:10000836-1753441200-1753448400@cornwallhospice.org
SUMMARY:Walk Talk Kernow Trelissick
DESCRIPTION:Join us for our Walk Talk Kernow Trelissick event on Friday 25th July 2025.  Meet at the Information Hut at 10.00am to register.\nWalk Talk Kernow is a FREE adult bereavement support group run by Cornwall Hospice. Whilst walking in nature\, each group provides a space for those who are bereaved and seeking social connections with others.\nWe meet at the Trelissick Gardens Information Hut located in the car park next to the Callestick ice cream shed. We will stroll (an amble NOT a ramble) in our chosen direction depending on suitability then back to the National Trust café. The walk will be approximately a mile and due to the terrain is not suitable for wheelchairs. \nKey Information for Walk Talk Kernow Trelissick\nSuitable footwear is essential. \nLook out for our team who will be wearing Cornwall Hospice lanyards. \nWell behaved dogs on a lead are welcome. \nParking is free at Walk Talk Kernow Trelissick for National Trust members\, pay and display for non-members. \nFor more information please call 01726 829874 or email communityservices@cornwallhospice.org – we also have a Walk Talk Kernow Facebook group – click HERE to visit and join our community. \n**  Please check our walks are going ahead during adverse weather conditions 01726 829874.  ** \n  \nFind out what other services we offer at venues closer to you by clicking here. \n  \n 
URL:https://cornwallhospice.org/event/walk-talk-kernow-trelissick/
LOCATION:Trelissick Garden\, Trelissick\, Truro\, Cornwall\, TR3 6QL\, United Kingdom
CATEGORIES:Community Services Events,Walk Talk Kernow
ATTACH;FMTTYPE=image/jpeg:https://cornwallhospice.org/wp-content/uploads/2025/05/Trelissick-Tower-WTK.jpg
END:VEVENT
END:VCALENDAR