BEGIN:VCALENDAR
VERSION:2.0
PRODID:-//Cornwall Hospice - ECPv6.15.20//NONSGML v1.0//EN
CALSCALE:GREGORIAN
METHOD:PUBLISH
X-ORIGINAL-URL:https://cornwallhospice.org
X-WR-CALDESC:Events for Cornwall Hospice
REFRESH-INTERVAL;VALUE=DURATION:PT1H
X-Robots-Tag:noindex
X-PUBLISHED-TTL:PT1H
BEGIN:VTIMEZONE
TZID:Europe/London
BEGIN:DAYLIGHT
TZOFFSETFROM:+0000
TZOFFSETTO:+0100
TZNAME:BST
DTSTART:20240331T010000
END:DAYLIGHT
BEGIN:STANDARD
TZOFFSETFROM:+0100
TZOFFSETTO:+0000
TZNAME:GMT
DTSTART:20241027T010000
END:STANDARD
BEGIN:DAYLIGHT
TZOFFSETFROM:+0000
TZOFFSETTO:+0100
TZNAME:BST
DTSTART:20250330T010000
END:DAYLIGHT
BEGIN:STANDARD
TZOFFSETFROM:+0100
TZOFFSETTO:+0000
TZNAME:GMT
DTSTART:20251026T010000
END:STANDARD
BEGIN:DAYLIGHT
TZOFFSETFROM:+0000
TZOFFSETTO:+0100
TZNAME:BST
DTSTART:20260329T010000
END:DAYLIGHT
BEGIN:STANDARD
TZOFFSETFROM:+0100
TZOFFSETTO:+0000
TZNAME:GMT
DTSTART:20261025T010000
END:STANDARD
END:VTIMEZONE
BEGIN:VEVENT
DTSTART;TZID=Europe/London:20250621T080000
DTEND;TZID=Europe/London:20250622T170000
DTSTAMP:20260422T075649
CREATED:20241015T161505Z
LAST-MODIFIED:20250714T101812Z
UID:10000683-1750492800-1750611600@cornwallhospice.org
SUMMARY:The Saint's Way Trek 2025
DESCRIPTION:Your Saint’s Way Trek adventure awaits – Join us for either 2 days of walking and camping\, 1 full day of trekking 30 miles coast to coast\, or take on the Saints Way Half which is 13.5 miles across Cornwall!\nSaint’s Way Trek 2025 Options\nClassic Two-Day Trek with Camping\nYour two day Saint’s Way Trek 2025 adventure starts on Saturday morning at Padstow Church\, where you will embark upon the first leg of your journey. As you leave Padstow you will be treated to spectacular views back across the famous harbour town\, before making your way towards St. Breock and the ancient monolithic landmark on the downs. \nThe first day of trekking ends at the 16.5 mile mark\, where we will set up camp at Mena Farm Campsite with it’s idyllic wild meadows. With it being the summer solstice we are guaranteed a beautiful evening around the fire pit. \nSunday morning takes you to the windswept heights of Helman Tor\, where you can view the north and south coasts of our beautiful county. As you head down towards Golant\, the banks of the river Fowey will lead you to the finish of the iconic Saint’s Way at Readymoney Cove in Fowey\, where a medal will be waiting for you! \nOne-Day Through Trek\nFor the first time ever\, we are offering The Saints Way Trek 2025 as a one-day through-trek ultra challenge! \nYou’ll start bright and early only Saturday morning at Padstow Church where you will begin your 30 mile adventure.  You’ll enjoy stunning coastal views as you make your way towards the historic site of St Breock. From there you will journey towards Withiel\, on to Lanivet\, and up to the vistas of Helman Tor which showcase views of both south and north coasts. \nThe lovely creek-side village of Golant will be your next stop with Fowey River leading you to your final destination of Readymoney Cove in beautiful Fowey where you will receive your well earned Saint’s Way Trek 2025 medal and finally rest those feet! What a way to celebrate the summer solstice. \nSaint’s Way Half\nIf you don’t fancy the full 30 miles\, then why not take on The Saint’s Way Half and walk the second part of the ancient 13.5 mile route. \nStart your journey in the lovely village of Lanivet and make your way towards rugged Helman Tor with it’s windswept heights. The next part of your challenge takes you past rolling farmland and on towards the idyllic village of Golant where you meet the River Fowey and journey through anicent woods and secluded valleys ending in Fowey where your medal and a warm welcome will be found at Readymoney Cove. \nSaint’s Way Trek 2025 Fees and Sponsorship\nClassic 2 Day Trek with Camping\nRegistration: Fundraising – £29 + £250 minimum sponsorship \nSelf-funded Option: £99 + own fundraising target\,  Under 16s: £25 + own fundraising target \n1 Day Through-Trek\nRegistration: Fundraising – £19 + £250 minimum sponsorship \nSelf-funded Option: £99 + own fundraising target\,  Under 16s: £15 + own fundraising target \nSaints Way Half\nRegistration: Fundraising – £19 + £175 minimum sponsorship \nSelf-funded Option: £99 + own fundraising target\,  Under 16s: £15 + own fundraising target \nWe’ll support you all the way!\nSaint’s Way Trek 2025 Itinerary\nNo matter which challenge you take on\, the Saint’s Way Trek 2025  is fully supported\, meaning we are there with you every step of the way.  The One-day and Two-Day trekkers will meet us at our Cornwall Hospice furniture store in St. Austell to register. You can park your car for the duration of your challenge and catch our shuttle bus to the start line in Padstow. All campers will leave overnight bags and tents with us and they will be waiting for you at the campsite on Saturday afternoon\, so you can focus on the walk and enjoying yourself as you cross the iconic Saint’s Way. \nFood\, water\, and snacks will be provided to all at various checkpoints throughout the route. When the Through-trekkers reach Readymoney Cove on Saturday we will shuttle your tired legs back to our car park in St Austell to collect your vehicle. \nMena Farm Campsite have a fantastic selection of food vans who visit the site\, or nearby in the local village\, Lanivet are the delights of Welcome Stranger fish & chip shop and Lanivet Inn pub both providing delicious food to eat in or takeaway– so if you are camping with us you have all the means to purchase a well deserved evening meal on Saturday night before you get some shut eye. Enjoying dinner together around the campfire on the Saturday evening is a great way to cement new friendships\, whilst sharing stories and memories. \nBreakfast will be provided for all campers on Sunday morning before setting off for the second day of trekking. \nOur Saints Way Half entrants will meet us at our Cornwall Hospice furniture store in St. Austell to park your car and catch the shuttle bus to the start point in Lanivet. You will enjoy the same checkpoints as our Two-day trekkers which includes lunch (provided) near Lostwithiel. \nAll Saint’s Way Trek 2025 finishers will receive a medal at the finish line at Readymoney Cove\, and will be shuttled back to the car park in St Austell. \nThe Saint’s Way Trek 2025 Route\nYou can view our Saint’s Way Trek 2025 route in detail on our Strava Route Map here! \nCan you do it?\nOf course you can! Choose an option to suit you but note that the through-trek will require training and a good level of fitness. \nThe Saints Way Trek 2025 is a wonderful adventure where you get to share an experience\, explore the wilds of Cornwall\, and do something amazing for Cornwall Hospice.  You’ll be enjoying an ice cream at Readymoney Cove in Fowey before you know it! \nWhat Happens Next?\nWe will be with you every step of the way from registration to the finish line. In just a few simple steps you can be a part of #TeamCHC. \n\nSign up today for The Saint’s Way Trek 2025 using the ‘Sign Up Now’ buttons on this page.\nYou will receive an email notification letting you know that your registration was successful.\nYou can then setup an online fundraising page through JustGiving here (or the buttons on this page).\nShare your fundraising page with your friends and family.\nYou will receive regular event updates with all you need to know to take part in The Saint’s Way Trek.\nAny fundraising support you need\, we will be on hand to help.\nFinally\, enjoy the Saint’s Way Trek challenge!\n\nThe Saint’s Way Trek 2025 kit list\nHere’s what we recommend you pack in your kit for our Saint’s Way Trek 2025. \nDay bag\nWaterproofs\nPacked lunch for Day 1 (packed lunches provided for Sunday only with the exception of through-trekkers)\nReusable cup for hot drinks\nWater bottle\nSun cream & hat\nWarm layers\nGuidebook\nBlister plasters\nExtra socks\nEmergency contact info (given out at registration)\nSmart phone \nOvernight kit\nTent\nSleeping bag & mat\nWarm layers\nSpare hiking clothes\nComfy shoes for the campsite\nPyjamas and toiletries
URL:https://cornwallhospice.org/event/saints-way-trek-2025/
LOCATION:Mena Farm\, Lanivet\, Bodmin\, Cornwall\, PL30 5HW\, United Kingdom
CATEGORIES:Cornwall Hospice Care Events,Fundraising Events,Treks and Challenges
ATTACH;FMTTYPE=image/jpeg:https://cornwallhospice.org/wp-content/uploads/2024/10/Saints-Way-Trek-Event-Image-600-x-300.jpg
END:VEVENT
END:VCALENDAR