BEGIN:VCALENDAR
VERSION:2.0
PRODID:-//Cornwall Hospice - ECPv6.15.20//NONSGML v1.0//EN
CALSCALE:GREGORIAN
METHOD:PUBLISH
X-WR-CALNAME:Cornwall Hospice
X-ORIGINAL-URL:https://cornwallhospice.org
X-WR-CALDESC:Events for Cornwall Hospice
REFRESH-INTERVAL;VALUE=DURATION:PT1H
X-Robots-Tag:noindex
X-PUBLISHED-TTL:PT1H
BEGIN:VTIMEZONE
TZID:Europe/London
BEGIN:DAYLIGHT
TZOFFSETFROM:+0000
TZOFFSETTO:+0100
TZNAME:BST
DTSTART:20250330T010000
END:DAYLIGHT
BEGIN:STANDARD
TZOFFSETFROM:+0100
TZOFFSETTO:+0000
TZNAME:GMT
DTSTART:20251026T010000
END:STANDARD
BEGIN:DAYLIGHT
TZOFFSETFROM:+0000
TZOFFSETTO:+0100
TZNAME:BST
DTSTART:20260329T010000
END:DAYLIGHT
BEGIN:STANDARD
TZOFFSETFROM:+0100
TZOFFSETTO:+0000
TZNAME:GMT
DTSTART:20261025T010000
END:STANDARD
BEGIN:DAYLIGHT
TZOFFSETFROM:+0000
TZOFFSETTO:+0100
TZNAME:BST
DTSTART:20270328T010000
END:DAYLIGHT
BEGIN:STANDARD
TZOFFSETFROM:+0100
TZOFFSETTO:+0000
TZNAME:GMT
DTSTART:20271031T010000
END:STANDARD
END:VTIMEZONE
BEGIN:VEVENT
DTSTART;TZID=Europe/London:20260716T100000
DTEND;TZID=Europe/London:20260716T130000
DTSTAMP:20260424T133623
CREATED:20260408T102511Z
LAST-MODIFIED:20260408T102511Z
UID:10000958-1784196000-1784206800@cornwallhospice.org
SUMMARY:Spirituality in Palliative and End of Life Care
DESCRIPTION:Our Spirituality in Palliative and End of Life Care course will consider what spirituality and spiritual care are\, and the importance of providing spiritual care for palliative and end of life patients\, as well as how spiritual care can be provided and incorporated into everyday practice.\nThe Spirituality session will consider: \n\nspiritual assessment\nspiritual distress\ncommunication skills that help to provide spiritual care\n\nThis training is aimed at health and social care staff who work in palliative and end of life care. \nCourse cost includes refreshments. \n  \nFind details of alternative dates\, venues and other courses we offer HERE.
URL:https://cornwallhospice.org/event/spirituality-in-palliative-and-end-of-life-care-2/
LOCATION:Mount Edgcumbe Hospice\, Porthpean Road\, St Austell\, Cornwall\, PL26 6AB\, United Kingdom
CATEGORIES:Spirituality in Palliative & EoL Care,Training & Short Courses
ATTACH;FMTTYPE=image/png:https://cornwallhospice.org/wp-content/uploads/2023/07/Spirituality-1.png
END:VEVENT
END:VCALENDAR