BEGIN:VCALENDAR
VERSION:2.0
PRODID:-//Cornwall Hospice - ECPv6.15.20//NONSGML v1.0//EN
CALSCALE:GREGORIAN
METHOD:PUBLISH
X-ORIGINAL-URL:https://cornwallhospice.org
X-WR-CALDESC:Events for Cornwall Hospice
REFRESH-INTERVAL;VALUE=DURATION:PT1H
X-Robots-Tag:noindex
X-PUBLISHED-TTL:PT1H
BEGIN:VTIMEZONE
TZID:Europe/London
BEGIN:DAYLIGHT
TZOFFSETFROM:+0000
TZOFFSETTO:+0100
TZNAME:BST
DTSTART:20250330T010000
END:DAYLIGHT
BEGIN:STANDARD
TZOFFSETFROM:+0100
TZOFFSETTO:+0000
TZNAME:GMT
DTSTART:20251026T010000
END:STANDARD
BEGIN:DAYLIGHT
TZOFFSETFROM:+0000
TZOFFSETTO:+0100
TZNAME:BST
DTSTART:20260329T010000
END:DAYLIGHT
BEGIN:STANDARD
TZOFFSETFROM:+0100
TZOFFSETTO:+0000
TZNAME:GMT
DTSTART:20261025T010000
END:STANDARD
BEGIN:DAYLIGHT
TZOFFSETFROM:+0000
TZOFFSETTO:+0100
TZNAME:BST
DTSTART:20270328T010000
END:DAYLIGHT
BEGIN:STANDARD
TZOFFSETFROM:+0100
TZOFFSETTO:+0000
TZNAME:GMT
DTSTART:20271031T010000
END:STANDARD
END:VTIMEZONE
BEGIN:VEVENT
DTSTART;TZID=Europe/London:20260424T000000
DTEND;TZID=Europe/London:20260426T000000
DTSTAMP:20260422T110651
CREATED:20260309T115130Z
LAST-MODIFIED:20260320T131855Z
UID:10001072-1776988800-1777161600@cornwallhospice.org
SUMMARY:Dance show
DESCRIPTION:Dance show\nThe amazing Liz Nolan Theatre Dance School has very kindly chosen Hugs and Cornwall Hospice’s St Julia’s Hospice as their charities to raise funds through their show in April. Liz runs shows that have a great combination of acting and dancing so get your tickets booked! There will also be a raffle on the night. Liz has been raising money for charities through her dance and drama shows for over 40 years so please support them and both charities whilst having a lovely time at the theatre. \nTickets can be booked here. \nFrom the group “Let us entertain you with our delightful story told in dance\, music and drama. Uncle Charles is abroad exploring the furthest corners of the world. He has left three nieces in the care of the housekeeper. Mrs Hardicore. But she isn’t very nice\, in fact she’s horrid. She lives a life of luxury in Uncle Charles’ grand house whilst the children become her servants. Through the dreams they visit the Land of Sweets\, have adventures with the fearsome pirates and visit heaven to see where dreams are made. But is it all a dream or will something magical happen?”
URL:https://cornwallhospice.org/event/dance-show/
LOCATION:Penwith College Zennor Theatre\, Penwith College\, St Clare Street\, Penzance\, Cornwall\, TR18 2SA\, United Kingdom
CATEGORIES:Fundraising Events,Our Supporters’ Events
ATTACH;FMTTYPE=image/png:https://cornwallhospice.org/wp-content/uploads/2026/03/Concert-2.png
END:VEVENT
BEGIN:VEVENT
DTSTART;TZID=Europe/London:20260424T110000
DTEND;TZID=Europe/London:20260424T130000
DTSTAMP:20260422T110651
CREATED:20260218T114503Z
LAST-MODIFIED:20260218T114503Z
UID:10001053-1777028400-1777035600@cornwallhospice.org
SUMMARY:Walk Talk Kernow Truro Boscawen Park
DESCRIPTION:Join us for our Walk Talk Kernow Truro Boscawen Park event on Friday 24th April 2026 at 10.00am to register.   We will stroll (an amble NOT a ramble) along the river walk\, through the park\, round the duckpond\, coming out at the café.\nWalk Talk Kernow is a FREE adult bereavement support group run by Cornwall Hospice. Whilst walking in nature\, each group provides a space for those who are bereaved and seeking social connections with others.\nWe also have a Walk Talk Kernow Facebook group – click HERE to visit and join our community. \nWalk Talk Kernow Truro Boscawen Park key information: \n\nWe will meet in the main car park next to the Scout Hut at 10.00am.\nThe walk will be approximately a mile and due to the terrain\, is not suitable for wheelchairs.\nPlease wear suitable footwear.\nWell behaved dogs on a lead are welcome.\nPlease ensure you are fit and healthy on the day as you will be asked to sign our registration form to this effect.   \n** During the summer months it is important to stay hydrated\, please bring along adequate drinks for this reason **\nOur team will be wearing Cornwall Hospice lanyards so do look out for them.\nParking is free\, if the carpark is full there is plenty of roadside parking.\n\nFor more information about this Walk Talk Kernow Truro – Boscawen Park event please email communityservices@cornwallhospice.org or call 01726 829874. \n** During adverse weather conditions\, you can check if walks are going ahead by calling the number above ** \n  \nYou can find out about all the other services we offer at venues near you by clicking here. \n 
URL:https://cornwallhospice.org/event/walk-talk-kernow-truro-boscawen-park-4/
LOCATION:Boscawen Park\, Malpas Road\, Truro\, Cornwall\, TR1 1SG\, United Kingdom
CATEGORIES:Community Services Events,Walk Talk Kernow
ATTACH;FMTTYPE=image/jpeg:https://cornwallhospice.org/wp-content/uploads/2026/02/Boscawen-Park-Cafe.jpg
END:VEVENT
END:VCALENDAR