BEGIN:VCALENDAR
VERSION:2.0
PRODID:-//Cornwall Hospice - ECPv6.15.20//NONSGML v1.0//EN
CALSCALE:GREGORIAN
METHOD:PUBLISH
X-WR-CALNAME:Cornwall Hospice
X-ORIGINAL-URL:https://cornwallhospice.org
X-WR-CALDESC:Events for Cornwall Hospice
REFRESH-INTERVAL;VALUE=DURATION:PT1H
X-Robots-Tag:noindex
X-PUBLISHED-TTL:PT1H
BEGIN:VTIMEZONE
TZID:Europe/London
BEGIN:DAYLIGHT
TZOFFSETFROM:+0000
TZOFFSETTO:+0100
TZNAME:BST
DTSTART:20250330T010000
END:DAYLIGHT
BEGIN:STANDARD
TZOFFSETFROM:+0100
TZOFFSETTO:+0000
TZNAME:GMT
DTSTART:20251026T010000
END:STANDARD
BEGIN:DAYLIGHT
TZOFFSETFROM:+0000
TZOFFSETTO:+0100
TZNAME:BST
DTSTART:20260329T010000
END:DAYLIGHT
BEGIN:STANDARD
TZOFFSETFROM:+0100
TZOFFSETTO:+0000
TZNAME:GMT
DTSTART:20261025T010000
END:STANDARD
BEGIN:DAYLIGHT
TZOFFSETFROM:+0000
TZOFFSETTO:+0100
TZNAME:BST
DTSTART:20270328T010000
END:DAYLIGHT
BEGIN:STANDARD
TZOFFSETFROM:+0100
TZOFFSETTO:+0000
TZNAME:GMT
DTSTART:20271031T010000
END:STANDARD
END:VTIMEZONE
BEGIN:VEVENT
DTSTART;TZID=Europe/London:20260321T100000
DTEND;TZID=Europe/London:20260322T160000
DTSTAMP:20260424T171936
CREATED:20260227T123321Z
LAST-MODIFIED:20260227T143614Z
UID:10001052-1774087200-1774195200@cornwallhospice.org
SUMMARY:Prom Pop Up Shop
DESCRIPTION:Join us for a magical shopping experience at our Prom Pop Up Shop located next to our retail store at White River\, St Austell. On Saturday 21st and Sunday 22nd March\, from 10am to 4pm\, we invite you to discover the perfect prom look without breaking the bank.\nAffordable Fashion for Everyone\nWe believe prom should be accessible to all! That’s why we’re offering prom dresses and suits for £20 and under\, with accessories for just £5 or less. With a huge range of sizes\, styles\, and colours\, there’s something to suit everyone — all new or like-new. \nExperience the Prom Magic\nStep into a world of glitz and glamour as we transform our space into a true prom wonderland. Try on your favourites\, mix\, and match\, and complete your perfect look. Our event is designed to boost confidence and create unforgettable memories for every young person. \nCommunity Spirit and Support\nOur friendly volunteers will be on hand to help you find the right sizes and styles\, answer questions\, and make your shopping experience even more enjoyable. \nDon’t miss out on this exciting event! Whether you’re preparing for an upcoming prom or simply exploring your style options\, our Prom Pop-Up Shop is the place to be. We can’t wait to welcome you and help you find your dream look! \nLocation\nWe have very kindly been gifted the use of the shop next door to our Cornwall Hospice shop in the St Austell Town Centre. You can find your nearest Cornwall Hospice Shop here. 
URL:https://cornwallhospice.org/event/prom-pop-up-shop/
LOCATION:Cornwall Hospice\, St Austell Town\, Cornwall Hospice\, White River Place\, Cornwall\, PL25 5AZ\, United Kingdom
CATEGORIES:Cornwall Hospice Care Events,Fundraising Events
ATTACH;FMTTYPE=image/png:https://cornwallhospice.org/wp-content/uploads/2026/02/Prom-Pop-up-5.png
END:VEVENT
END:VCALENDAR