BEGIN:VCALENDAR
VERSION:2.0
PRODID:-//Cornwall Hospice - ECPv6.15.20//NONSGML v1.0//EN
CALSCALE:GREGORIAN
METHOD:PUBLISH
X-WR-CALNAME:Cornwall Hospice
X-ORIGINAL-URL:https://cornwallhospice.org
X-WR-CALDESC:Events for Cornwall Hospice
REFRESH-INTERVAL;VALUE=DURATION:PT1H
X-Robots-Tag:noindex
X-PUBLISHED-TTL:PT1H
BEGIN:VTIMEZONE
TZID:Europe/London
BEGIN:DAYLIGHT
TZOFFSETFROM:+0000
TZOFFSETTO:+0100
TZNAME:BST
DTSTART:20250330T010000
END:DAYLIGHT
BEGIN:STANDARD
TZOFFSETFROM:+0100
TZOFFSETTO:+0000
TZNAME:GMT
DTSTART:20251026T010000
END:STANDARD
BEGIN:DAYLIGHT
TZOFFSETFROM:+0000
TZOFFSETTO:+0100
TZNAME:BST
DTSTART:20260329T010000
END:DAYLIGHT
BEGIN:STANDARD
TZOFFSETFROM:+0100
TZOFFSETTO:+0000
TZNAME:GMT
DTSTART:20261025T010000
END:STANDARD
BEGIN:DAYLIGHT
TZOFFSETFROM:+0000
TZOFFSETTO:+0100
TZNAME:BST
DTSTART:20270328T010000
END:DAYLIGHT
BEGIN:STANDARD
TZOFFSETFROM:+0100
TZOFFSETTO:+0000
TZNAME:GMT
DTSTART:20271031T010000
END:STANDARD
END:VTIMEZONE
BEGIN:VEVENT
DTSTART;TZID=Europe/London:20260313T100000
DTEND;TZID=Europe/London:20260313T120000
DTSTAMP:20260424T170850
CREATED:20260126T103324Z
LAST-MODIFIED:20260126T103324Z
UID:10001041-1773396000-1773403200@cornwallhospice.org
SUMMARY:Walk Talk Kernow Penzance Promenade Walk
DESCRIPTION:Join us for our Walk Talk Kernow Penzance Promenade Walk to Newlyn on Friday 13th March 2026 at 10.00am to register.   \nWe will stroll (an amble NOT a ramble) along the prom towards Newlyn and then stroll back returning to Jubilee Pool Cafe for refreshments. \nWalk Talk Kernow is a FREE adult bereavement support group run by Cornwall Hospice. Whilst walking in nature\, each group provides a space for those who are bereaved and seeking social connections with others.  \nKey Information for Walk Talk Kernow Penzance Promenade to Newlyn Walk  \n\nWe will meet outside Jubilee Pool Cafe at 10.00am for registration. \n\n\nThe walk is flat and the cafe is accessible to most. \n\n\nPlease wear suitable footwear. \n\n\nWell behaved dogs on a lead are welcome. \nPlease ensure you are fit and healthy on the day as you will be asked to sign our registration form to this effect. ** During the summer months it is important to stay hydrated\, please bring along adequate drinks for this reason **\n\n\nOur team will be wearing Cornwall Hospice lanyards so do look out for them. \n\n\nFree on street parking is available on the prom and surrounding streets on a first come\, first served basis. Other paid-for car parks are nearby including St Antony’s Gardens and Wharfside Car Park. \n\nFor more information about this Walk Talk Kernow Penzance to Newlyn event please email communityservices@cornwallhospice.org or call 01726 829874.  \n** During adverse weather conditions\, you can check if walks are going ahead by calling the number above **  \n   \nWe also have a Walk Talk Kernow Facebook group – click HERE to visit and join our community.  \n   \nYou can find out about all the other services we offer at venues near you by clicking here.  \n 
URL:https://cornwallhospice.org/event/walk-talk-kernow-penzance-promenade-walk-2/
LOCATION:Jubilee Pool Cafe\, Jubilee Pool\, Battery Road\, Penzance\, Cornwall\, TR18\, United Kingdom
CATEGORIES:Community Services Events,Walk Talk Kernow
ATTACH;FMTTYPE=image/jpeg:https://cornwallhospice.org/wp-content/uploads/2026/01/Penzance-Prom-WTK.jpg
END:VEVENT
END:VCALENDAR