BEGIN:VCALENDAR
VERSION:2.0
PRODID:-//Cornwall Hospice - ECPv6.15.20//NONSGML v1.0//EN
CALSCALE:GREGORIAN
METHOD:PUBLISH
X-WR-CALNAME:Cornwall Hospice
X-ORIGINAL-URL:https://cornwallhospice.org
X-WR-CALDESC:Events for Cornwall Hospice
REFRESH-INTERVAL;VALUE=DURATION:PT1H
X-Robots-Tag:noindex
X-PUBLISHED-TTL:PT1H
BEGIN:VTIMEZONE
TZID:Europe/London
BEGIN:DAYLIGHT
TZOFFSETFROM:+0000
TZOFFSETTO:+0100
TZNAME:BST
DTSTART:20240331T010000
END:DAYLIGHT
BEGIN:STANDARD
TZOFFSETFROM:+0100
TZOFFSETTO:+0000
TZNAME:GMT
DTSTART:20241027T010000
END:STANDARD
BEGIN:DAYLIGHT
TZOFFSETFROM:+0000
TZOFFSETTO:+0100
TZNAME:BST
DTSTART:20250330T010000
END:DAYLIGHT
BEGIN:STANDARD
TZOFFSETFROM:+0100
TZOFFSETTO:+0000
TZNAME:GMT
DTSTART:20251026T010000
END:STANDARD
BEGIN:DAYLIGHT
TZOFFSETFROM:+0000
TZOFFSETTO:+0100
TZNAME:BST
DTSTART:20260329T010000
END:DAYLIGHT
BEGIN:STANDARD
TZOFFSETFROM:+0100
TZOFFSETTO:+0000
TZNAME:GMT
DTSTART:20261025T010000
END:STANDARD
END:VTIMEZONE
BEGIN:VEVENT
DTSTART;TZID=Europe/London:20250725T110000
DTEND;TZID=Europe/London:20250725T130000
DTSTAMP:20260422T105004
CREATED:20250519T091518Z
LAST-MODIFIED:20250521T165043Z
UID:10000836-1753441200-1753448400@cornwallhospice.org
SUMMARY:Walk Talk Kernow Trelissick
DESCRIPTION:Join us for our Walk Talk Kernow Trelissick event on Friday 25th July 2025.  Meet at the Information Hut at 10.00am to register.\nWalk Talk Kernow is a FREE adult bereavement support group run by Cornwall Hospice. Whilst walking in nature\, each group provides a space for those who are bereaved and seeking social connections with others.\nWe meet at the Trelissick Gardens Information Hut located in the car park next to the Callestick ice cream shed. We will stroll (an amble NOT a ramble) in our chosen direction depending on suitability then back to the National Trust café. The walk will be approximately a mile and due to the terrain is not suitable for wheelchairs. \nKey Information for Walk Talk Kernow Trelissick\nSuitable footwear is essential. \nLook out for our team who will be wearing Cornwall Hospice lanyards. \nWell behaved dogs on a lead are welcome. \nParking is free at Walk Talk Kernow Trelissick for National Trust members\, pay and display for non-members. \nFor more information please call 01726 829874 or email communityservices@cornwallhospice.org – we also have a Walk Talk Kernow Facebook group – click HERE to visit and join our community. \n**  Please check our walks are going ahead during adverse weather conditions 01726 829874.  ** \n  \nFind out what other services we offer at venues closer to you by clicking here. \n  \n 
URL:https://cornwallhospice.org/event/walk-talk-kernow-trelissick/
LOCATION:Trelissick Garden\, Trelissick\, Truro\, Cornwall\, TR3 6QL\, United Kingdom
CATEGORIES:Community Services Events,Walk Talk Kernow
ATTACH;FMTTYPE=image/jpeg:https://cornwallhospice.org/wp-content/uploads/2025/05/Trelissick-Tower-WTK.jpg
END:VEVENT
END:VCALENDAR